BEGIN:VCALENDAR
VERSION:2.0
PRODID:-//Tukios.com/
BEGIN:VEVENT
UID:32e1f242-01f8-4170-b5cd-51de8403b8f8@www.pellerinfuneralhome.com
DTSTAMP:20260421T085453Z
DTSTART:20260421T130000Z
DTEND:20260421T150000Z
SUMMARY:Visitation
DESCRIPTION:
URL:https://www.pellerinfuneralhome.com/obituaries/and-logan-wayne-ball
LOCATION: 502 Jefferson Terrace  New Iberia LA 70560
GEO:29.992499;-91.8047553
END:VEVENT
END:VCALENDAR