BEGIN:VCALENDAR
VERSION:2.0
PRODID:-//Tukios.com/
BEGIN:VEVENT
UID:23d39abb-cf03-4800-a41b-9035bc7f6809@www.pellerinfuneralhome.com
DTSTAMP:20260423T211646Z
DTSTART:20260424T143000Z
DTEND:20260424T180000Z
SUMMARY:Visitation
DESCRIPTION:
URL:https://www.pellerinfuneralhome.com/obituaries/bobby-bennett
LOCATION: 112 N New Market St  St. Martinville LA 70582
GEO:30.1230418;-91.8276811
END:VEVENT
END:VCALENDAR