BEGIN:VCALENDAR
VERSION:2.0
PRODID:-//Tukios.com/
BEGIN:VEVENT
UID:2b5a7675-0597-4fc7-a616-f7fa5cf57e69@www.pellerinfuneralhome.com
DTSTAMP:20260423T211453Z
DTSTART:20260424T180000Z
DTEND:20260424T190000Z
SUMMARY:Funeral Service
DESCRIPTION:
URL:https://www.pellerinfuneralhome.com/obituaries/bobby-bennett
LOCATION: 112 N New Market St  St. Martinville LA 70582
GEO:30.1230418;-91.8276811
END:VEVENT
END:VCALENDAR