BEGIN:VCALENDAR
VERSION:2.0
PRODID:-//Tukios.com/
BEGIN:VEVENT
UID:1d1c2436-daa6-45a3-927b-25ac307e8a69@www.pellerinfuneralhome.com
DTSTAMP:20260423T211343Z
DTSTART:20260424
SUMMARY:Burial
DESCRIPTION:
URL:https://www.pellerinfuneralhome.com/obituaries/bobby-bennett
LOCATION: 1017 Francis Loop  St. Martinville LA 70582
GEO:30.1185681;-91.798117
END:VEVENT
END:VCALENDAR