BEGIN:VCALENDAR
VERSION:2.0
PRODID:-//Tukios.com/
BEGIN:VEVENT
UID:68470622-7874-4864-a89c-af55414265a3@www.pellerinfuneralhome.com
DTSTAMP:20260425T215305Z
DTSTART:20260501T143000Z
DTEND:20260501T173000Z
SUMMARY:Visitation
DESCRIPTION:
URL:https://www.pellerinfuneralhome.com/obituaries/cecile-lassalle
LOCATION: 502 Jefferson Terrace  New Iberia LA 70560
GEO:29.992499;-91.8047553
END:VEVENT
END:VCALENDAR