BEGIN:VCALENDAR
VERSION:2.0
PRODID:-//Tukios.com/
BEGIN:VEVENT
UID:68ebde38-8ac1-4e0c-b12d-b2265fd559c5@www.pellerinfuneralhome.com
DTSTAMP:20260425T215305Z
DTSTART:20260501T160000Z
DTEND:20260501T163000Z
SUMMARY:Rosary
DESCRIPTION:
URL:https://www.pellerinfuneralhome.com/obituaries/cecile-lassalle
LOCATION: 502 Jefferson Terrace  New Iberia LA 70560
GEO:29.992499;-91.8047553
END:VEVENT
END:VCALENDAR