BEGIN:VCALENDAR
VERSION:2.0
PRODID:-//Tukios.com/
BEGIN:VEVENT
UID:5d940539-8b0d-4f58-b6d3-46be5ceeea95@www.pellerinfuneralhome.com
DTSTAMP:20260425T215306Z
DTSTART:20260501T173000Z
DTEND:20260501T183000Z
SUMMARY:Memorial Service
DESCRIPTION:
URL:https://www.pellerinfuneralhome.com/obituaries/cecile-lassalle
LOCATION: 502 Jefferson Terrace  New Iberia LA 70560
GEO:29.992499;-91.8047553
END:VEVENT
END:VCALENDAR