BEGIN:VCALENDAR
VERSION:2.0
PRODID:-//Tukios.com/
BEGIN:VEVENT
UID:567fea63-1807-4746-a79a-186b8fc61049@www.pellerinfuneralhome.com
DTSTAMP:20260425T215305Z
DTSTART:20260501T174500Z
DTEND:20260501T180000Z
SUMMARY:Inurnment
DESCRIPTION:
URL:https://www.pellerinfuneralhome.com/obituaries/cecile-lassalle
LOCATION:    New Iberia LA 70560
GEO:30.0047569;-91.8227316
END:VEVENT
END:VCALENDAR