BEGIN:VCALENDAR
VERSION:2.0
PRODID:-//Tukios.com/
BEGIN:VEVENT
UID:5d696b14-c3ab-43c4-8eb8-67ec447eb04e@www.pellerinfuneralhome.com
DTSTAMP:20260421T082923Z
DTSTART:20260418T123000Z
DTEND:20260418T150000Z
SUMMARY:Visitation
DESCRIPTION:
URL:https://www.pellerinfuneralhome.com/obituaries/cloussy-soularie-sr
LOCATION: 211 Berard St  Breaux Bridge LA 70517
GEO:30.2732673;-91.901643
END:VEVENT
END:VCALENDAR