BEGIN:VCALENDAR
VERSION:2.0
PRODID:-//Tukios.com/
BEGIN:VEVENT
UID:1fd3ca88-fb83-405b-a24d-33ee51460140@www.pellerinfuneralhome.com
DTSTAMP:20260420T185204Z
DTSTART:20260425T153000Z
DTEND:20260425T163000Z
SUMMARY:Mass of Christian Burial
DESCRIPTION:
URL:https://www.pellerinfuneralhome.com/obituaries/joseph-sampy
LOCATION:St. Francis of Assisi Catholic Church 610 N. Main St.  Breaux 
	Bridge LA 70517
GEO:30.2774914;-91.9047296
END:VEVENT
END:VCALENDAR