BEGIN:VCALENDAR
VERSION:2.0
PRODID:-//Tukios.com/
BEGIN:VEVENT
UID:a72045c6-a78e-4ef9-90f1-cfa93cee88ec@www.pellerinfuneralhome.com
DTSTAMP:20260420T185820Z
DTSTART:20260425T140000Z
DTEND:20260425T141500Z
SUMMARY:Rosary
DESCRIPTION:
URL:https://www.pellerinfuneralhome.com/obituaries/joseph-sampy
LOCATION: 211 Berard St  Breaux Bridge LA 70517
GEO:30.2732673;-91.901643
END:VEVENT
END:VCALENDAR