BEGIN:VCALENDAR
VERSION:2.0
PRODID:-//Tukios.com/
BEGIN:VEVENT
UID:44555537-bbad-4952-a24e-afd23af48937@www.pellerinfuneralhome.com
DTSTAMP:20260420T185454Z
DTSTART:20260425T120000Z
DTEND:20260425T150000Z
SUMMARY:Visitation
DESCRIPTION:
URL:https://www.pellerinfuneralhome.com/obituaries/joseph-sampy
LOCATION: 211 Berard St  Breaux Bridge LA 70517
GEO:30.2732673;-91.901643
END:VEVENT
END:VCALENDAR