BEGIN:VCALENDAR
VERSION:2.0
PRODID:-//Tukios.com/
BEGIN:VEVENT
UID:1821f629-3373-4c9b-9919-87c17f6de137@www.pellerinfuneralhome.com
DTSTAMP:20260420T190125Z
DTSTART:20260425
SUMMARY:Burial
DESCRIPTION:
URL:https://www.pellerinfuneralhome.com/obituaries/joseph-sampy
LOCATION: 204 N Main St  Breaux Bridge LA 70517
GEO:30.27528;-91.899583
END:VEVENT
END:VCALENDAR