BEGIN:VCALENDAR
VERSION:2.0
PRODID:-//Tukios.com/
BEGIN:VEVENT
UID:eba08caa-18f8-4c8b-bdf8-f8f30d60a3f3@www.pellerinfuneralhome.com
DTSTAMP:20260421T193007Z
DTSTART:20260425T180000Z
DTEND:20260425T190000Z
SUMMARY:Mass of Christian Burial
DESCRIPTION:
URL:https://www.pellerinfuneralhome.com/obituaries/louis-nelson
LOCATION:Notre Dame Catholic Church 201 Gary St.  St. Martinville LA 
	70582
GEO:30.1178339;-91.8289059
END:VEVENT
END:VCALENDAR