BEGIN:VCALENDAR
VERSION:2.0
PRODID:-//Tukios.com/
BEGIN:VEVENT
UID:7ddb2563-6de2-4573-b9c3-8cd9837a461e@www.pellerinfuneralhome.com
DTSTAMP:20260421T193001Z
DTSTART:20260425T153000Z
DTEND:20260425T154500Z
SUMMARY:Rosary
DESCRIPTION:
URL:https://www.pellerinfuneralhome.com/obituaries/louis-nelson
LOCATION: 112 N New Market St  St. Martinville LA 70582
GEO:30.1230418;-91.8276811
END:VEVENT
END:VCALENDAR