BEGIN:VCALENDAR
VERSION:2.0
PRODID:-//Tukios.com/
BEGIN:VEVENT
UID:c1caf18a-0233-496d-96ca-ccffb3342e24@www.pellerinfuneralhome.com
DTSTAMP:20260421T193001Z
DTSTART:20260425T140000Z
DTEND:20260425T173000Z
SUMMARY:Visitation
DESCRIPTION:
URL:https://www.pellerinfuneralhome.com/obituaries/louis-nelson
LOCATION: 112 N New Market St  St. Martinville LA 70582
GEO:30.1230418;-91.8276811
END:VEVENT
END:VCALENDAR