BEGIN:VCALENDAR
VERSION:2.0
PRODID:-//Tukios.com/
BEGIN:VEVENT
UID:5fa4c8ef-d7cc-41c9-8de2-3eb251d53fec@www.pellerinfuneralhome.com
DTSTAMP:20260421T085500Z
DTSTART:20260417T120000Z
DTEND:20260417T153000Z
SUMMARY:Visitation
DESCRIPTION:
URL:https://www.pellerinfuneralhome.com/obituaries/raylon-wiltz
LOCATION:Pellerin Funeral Home in Cecilia 2238 Bushville Hwy  Cecilia LA 
	70521
GEO:30.3382616;-91.8540491
END:VEVENT
END:VCALENDAR