BEGIN:VCALENDAR
VERSION:2.0
PRODID:-//Tukios.com/
BEGIN:VEVENT
UID:5ace72d3-428f-4d7b-b896-79eed60a9a08@www.pellerinfuneralhome.com
DTSTAMP:20260420T210208Z
DTSTART:20260422T180000Z
DTEND:20260422T190000Z
SUMMARY:Mass
DESCRIPTION:
URL:https://www.pellerinfuneralhome.com/obituaries/richard-calais
LOCATION:St. Joseph Catholic Church High School Hwy  Breaux Bridge LA 
	70517
GEO:30.3376387;-91.8537607
END:VEVENT
END:VCALENDAR