BEGIN:VCALENDAR
VERSION:2.0
PRODID:-//Tukios.com/
BEGIN:VEVENT
UID:1083c266-7774-4e2d-9139-25e38061f402@www.pellerinfuneralhome.com
DTSTAMP:20260420T210203Z
DTSTART:20260421T220000Z
DTEND:20260422T020000Z
SUMMARY:Visitation
DESCRIPTION:
URL:https://www.pellerinfuneralhome.com/obituaries/richard-calais
LOCATION: 2238 Bushville Hwy  Arnaudville LA 70512
GEO:30.3382616;-91.8540491
END:VEVENT
END:VCALENDAR