BEGIN:VCALENDAR
VERSION:2.0
PRODID:-//Tukios.com/
BEGIN:VEVENT
UID:9f0d9738-ed51-4a65-8965-01ff6af026cf@www.pellerinfuneralhome.com
DTSTAMP:20260420T210534Z
DTSTART:20260422T130000Z
DTEND:20260422T173000Z
SUMMARY:Visitation
DESCRIPTION:
URL:https://www.pellerinfuneralhome.com/obituaries/richard-calais
LOCATION: 2238 Bushville Hwy  Arnaudville LA 70512
GEO:30.3382616;-91.8540491
END:VEVENT
END:VCALENDAR