BEGIN:VCALENDAR
VERSION:2.0
PRODID:-//Tukios.com/
BEGIN:VEVENT
UID:e6d0e8ff-6c6e-4bd1-8c9f-6e37ef7967e0@www.pellerinfuneralhome.com
DTSTAMP:20260423T171917Z
DTSTART:20260501T153000Z
DTEND:20260501T163000Z
SUMMARY:Mass of Christian Burial
DESCRIPTION:
URL:https://www.pellerinfuneralhome.com/obituaries/veronica-williams
LOCATION:St. Francis of Assisi Catholic Church 610 N. Main St.  Breaux 
	Bridge LA 70517
GEO:30.2774914;-91.9047296
END:VEVENT
END:VCALENDAR