BEGIN:VCALENDAR
VERSION:2.0
PRODID:-//Tukios.com/
BEGIN:VEVENT
UID:21a0e55d-17a4-4663-806f-f1f7844e3aa2@www.pellerinfuneralhome.com
DTSTAMP:20260423T172223Z
DTSTART:20260501T120000Z
DTEND:20260501T150000Z
SUMMARY:Visitation
DESCRIPTION:
URL:https://www.pellerinfuneralhome.com/obituaries/veronica-williams
LOCATION: 211 Berard St  Breaux Bridge LA 70517
GEO:30.2732673;-91.901643
END:VEVENT
END:VCALENDAR