BEGIN:VCALENDAR
VERSION:2.0
PRODID:-//Tukios.com/
BEGIN:VEVENT
UID:0b9f9764-96fc-4a62-af2f-14242102f4a8@www.pellerinfuneralhome.com
DTSTAMP:20260423T171836Z
DTSTART:20260501
SUMMARY:Burial
DESCRIPTION:
URL:https://www.pellerinfuneralhome.com/obituaries/veronica-williams
LOCATION: 610 N Main St  Breaux Bridge LA 70517
GEO:30.2774799;-91.9047148
END:VEVENT
END:VCALENDAR