BEGIN:VCALENDAR
VERSION:2.0
PRODID:-//Tukios.com/
BEGIN:VEVENT
UID:81e069d5-93f4-4894-8b4d-ef0838003f3c@www.pellerinfuneralhome.com
DTSTAMP:20260423T172438Z
DTSTART:20260501T140000Z
DTEND:20260501T141500Z
SUMMARY:Rosary
DESCRIPTION:
URL:https://www.pellerinfuneralhome.com/obituaries/veronica-williams
LOCATION: 211 Berard St  Breaux Bridge LA 70517
GEO:30.2732673;-91.901643
END:VEVENT
END:VCALENDAR